BEGIN:VCALENDAR
VERSION:2.0
PRODID:-//eventon.com NONSGML v1.0//EN
CALSCALE:GREGORIAN
METHOD:PUBLISH
BEGIN:VEVENT
UID:69e56aaebc9b7
DTSTAMP:20260419T235214Z
DTSTART:20240505T010000Z
DTEND:20240505T060000Z
LOCATION:Perth Horse &amp; Pony Club 171 Jon Sanders Drive\,  Herdsman WA 6017 171 Jon Sanders Drive\,  Herdsman\,  WA\,  Australia\,  6017
SUMMARY:Matchy Matchy Open Hack & Dressage Day
DESCRIPTION:**GATES OPEN 7.00AM** Competition commences 9.00am&nbsp;&nbsp; 
 Leading Rein\,  Walk/Trot\,  Walk/Trot/Canter &amp; Open Rings&nbsp; Come a
 long and have some fun\,  match your outfit with your horse or pony!&nbsp; 
 &nbsp;There will be a $50 prize for the best Matchy outfits and also a Fanc
 y Dress competition! Polo Shirt\,  Shirt or T-Shirt and[..]\nhttps://www.ca
 valletti.com.au/event/egg-straordinary-easter-hack-dressage-show/
URL:https://www.cavalletti.com.au/event/egg-straordinary-easter-hack-dressage-show/
END:VEVENT
END:VCALENDAR