BEGIN:VCALENDAR
VERSION:2.0
PRODID:-//eventon.com NONSGML v1.0//EN
CALSCALE:GREGORIAN
METHOD:PUBLISH
BEGIN:VEVENT
UID:69e73eb9044a5
DTSTAMP:20260421T090913Z
DTSTART:20230730T000000Z
DTEND:20230730T073000Z
LOCATION:Peel Metropolitan Horse and Pony Club 467 King rd\,  Oldbury\,  western Australia\,  Australia\,  6121
SUMMARY:Peel Hickstead 2
DESCRIPTION:Hickstead &#8211; Combination course of show jumping and x coun
 try jumps. Plus a Dressage test&nbsp;\nhttps://www.cavalletti.com.au/event/
 peel-hickstead-2-4/
URL:https://www.cavalletti.com.au/event/peel-hickstead-2-4/
END:VEVENT
END:VCALENDAR