BEGIN:VCALENDAR
VERSION:2.0
PRODID:-//eventon.com NONSGML v1.0//EN
CALSCALE:GREGORIAN
METHOD:PUBLISH
BEGIN:VEVENT
UID:69e73cd584e37
DTSTAMP:20260421T090109Z
DTSTART:20250720
DTEND:20250721
LOCATION:Orange Grove Horse and Pony Club 35 Grant Street\,  Orange Grove\,  WA\,  Australia\, 
SUMMARY:OGHPC Dressage & Show Jump Series – Event 3
DESCRIPTION:Orange Grove Horse &amp; Pony Club&#8217;s Show Jumping &amp; D
 ressage Series is back for 2025! The series includes three events (this is 
 the third &amp; final)\,  with some amazing prizes for series winners.&nbsp
 ; Entries will be via Global Entries\nhttps://www.cavalletti.com.au/event/o
 ghpc-dressage-show-jump-series-event-3/
URL:https://www.cavalletti.com.au/event/oghpc-dressage-show-jump-series-event-3/
END:VEVENT
END:VCALENDAR