BEGIN:VCALENDAR
VERSION:2.0
PRODID:-//eventon.com NONSGML v1.0//EN
CALSCALE:GREGORIAN
METHOD:PUBLISH
BEGIN:VEVENT
UID:69e73eecf0b65
DTSTAMP:20260421T091004Z
DTSTART:20230715T000000Z
DTEND:20230716T090000Z
LOCATION:Kellerberrin Riding and Pony Club King St
SUMMARY:EASTERN ZONE ODE - KELLERBERRIN
DESCRIPTION:Please confirm this event with the organiser as this event was 
 added by Cavalletti.\nhttps://www.cavalletti.com.au/event/eastern-zone-ode-
 kellerberrin/
URL:https://www.cavalletti.com.au/event/eastern-zone-ode-kellerberrin/
END:VEVENT
END:VCALENDAR