BEGIN:VCALENDAR
VERSION:2.0
PRODID:-//eventon.com NONSGML v1.0//EN
CALSCALE:GREGORIAN
METHOD:PUBLISH
BEGIN:VEVENT
UID:69e73f646ed0d
DTSTAMP:20260421T091204Z
DTSTART:20230722T000000Z
DTEND:20230722T090000Z
LOCATION:Esperance Pony Club Myrup Rd
SUMMARY:ESPERANCE HI POINT SERIES SJ & DRESSAGE
DESCRIPTION:Please confirm this event with the organiser as this event was 
 added by Cavalletti.\nhttps://www.cavalletti.com.au/event/esperance-hi-poin
 t-series-sj-dressage-3/
URL:https://www.cavalletti.com.au/event/esperance-hi-point-series-sj-dressage-3/
END:VEVENT
END:VCALENDAR