BEGIN:VCALENDAR
VERSION:2.0
PRODID:-//eventon.com NONSGML v1.0//EN
CALSCALE:GREGORIAN
METHOD:PUBLISH
BEGIN:VEVENT
UID:69e73c85e10be
DTSTAMP:20260421T085949Z
DTSTART:20230723T000000Z
DTEND:20230723T090000Z
LOCATION:Baldivis Equestrian and Pony Club Lugg Rd\,  \,  Western Australia\,  Australia\, 
SUMMARY:BALDIVIS SHOWJUMPING SERIES 3
DESCRIPTION:Please confirm this event with the organiser as this event was 
 added by Cavalletti.\nhttps://www.cavalletti.com.au/event/baldivis-showjump
 ing-series-3/
URL:https://www.cavalletti.com.au/event/baldivis-showjumping-series-3/
END:VEVENT
END:VCALENDAR