BEGIN:VCALENDAR
VERSION:2.0
PRODID:-//eventon.com NONSGML v1.0//EN
CALSCALE:GREGORIAN
METHOD:PUBLISH
BEGIN:VEVENT
UID:69e73fc4148ee
DTSTAMP:20260421T091340Z
DTSTART:20230723T000000Z
DTEND:20230723T090000Z
LOCATION:Horsemen&#039;s Pony Club
SUMMARY:HORSEMEN'S TOP OF THE HUNT SERIES - HICKSTEAD
DESCRIPTION:Please confirm this event with the organiser as this event was 
 added by Cavalletti.\nhttps://www.cavalletti.com.au/event/horsemens-top-of-
 the-hunt-series-hickstead/
URL:https://www.cavalletti.com.au/event/horsemens-top-of-the-hunt-series-hickstead/
END:VEVENT
END:VCALENDAR