BEGIN:VCALENDAR
VERSION:2.0
PRODID:-//eventon.com NONSGML v1.0//EN
CALSCALE:GREGORIAN
METHOD:PUBLISH
BEGIN:VEVENT
UID:69e73f93bef44
DTSTAMP:20260421T091251Z
DTSTART:20230729T000000Z
DTEND:20230730T090000Z
LOCATION:Gidgegannup Horse &amp; Pony Club 2171 Toodyay Rd\,  Gidgegannup\,  Western Australia\,  Australia\,  6083
SUMMARY:GIDGEGANNUP ODE
DESCRIPTION:Please confirm this event with the organiser as this event was 
 added by Cavalletti.\nhttps://www.cavalletti.com.au/event/gidgegannup-ode/
URL:https://www.cavalletti.com.au/event/gidgegannup-ode/
END:VEVENT
END:VCALENDAR