BEGIN:VCALENDAR
VERSION:2.0
PRODID:-//eventon.com NONSGML v1.0//EN
CALSCALE:GREGORIAN
METHOD:PUBLISH
BEGIN:VEVENT
UID:69e73cf8b733f
DTSTAMP:20260421T090144Z
DTSTART:20230720T000000Z
DTEND:20230720T060000Z
LOCATION:Gidgegannup Show Grounds Toodyay Rd\,  Gidgegannup\,  Perth
SUMMARY:Come and Try July
DESCRIPTION:DO YOU HAVE ONE OF THESE IN THE PADDOCK? &nbsp; THEN YOU NEED â
 €¦. COME AND TRY JULY At Gidgegannup Dressage Club A fun\,  supportive club
  with great facilities including high quality coaching with only 2 per less
 on\,  ground work choices each rally\,  &nbsp;a fun\,  supportive atmospher
 e\,  free undercover stables\, [..]\nhttps://www.cavalletti.com.au/event/co
 me-and-try-july-4/
URL:https://www.cavalletti.com.au/event/come-and-try-july-4/
END:VEVENT
END:VCALENDAR