BEGIN:VCALENDAR
VERSION:2.0
PRODID:-//eventon.com NONSGML v1.0//EN
CALSCALE:GREGORIAN
METHOD:PUBLISH
BEGIN:VEVENT
UID:69e73d9f474a2
DTSTAMP:20260421T090431Z
DTSTART:20230730
DTEND:20230731
LOCATION:Sandown Park Carl Street MUCHEA\,  Perth
SUMMARY:WINTERAMA 2023
DESCRIPTION:OPen ALl Breed and Ridden show with Winter themed classes\nhttp
 s://www.cavalletti.com.au/event/winterama-2023/
URL:https://www.cavalletti.com.au/event/winterama-2023/
END:VEVENT
END:VCALENDAR