BEGIN:VCALENDAR
VERSION:2.0
PRODID:-//eventon.com NONSGML v1.0//EN
CALSCALE:GREGORIAN
METHOD:PUBLISH
BEGIN:VEVENT
UID:69e56abe6e594
DTSTAMP:20260419T235230Z
DTSTART:20240120T013000Z
DTEND:20240120T155000Z
LOCATION:Serpentine Horse &amp; Pony Club Karnup rd\,  Serpentine\,  Peel
SUMMARY:Serpentine Jarrahdale Adult Riders Club
DESCRIPTION:Want to be a part of a club but don&#8217;t know how? Want to m
 ake new friends? Need an excuse to ride at least once a month lol? or even 
 to just get yourself and your 4 legged friend out and about for some laughs
  and some learning? Well we[..]\nhttps://www.cavalletti.com.au/event/serpen
 tine-jarrahdale-adult-riders-club/
URL:https://www.cavalletti.com.au/event/serpentine-jarrahdale-adult-riders-club/
END:VEVENT
END:VCALENDAR