BEGIN:VCALENDAR
VERSION:2.0
PRODID:-//eventon.com NONSGML v1.0//EN
CALSCALE:GREGORIAN
METHOD:PUBLISH
BEGIN:VEVENT
UID:69e56a668854c
DTSTAMP:20260419T235102Z
DTSTART:20240303
DTEND:20240304
LOCATION:Margaret River Horsemans &amp; Pony Club Grounds Roxburgh Rd\,  off Terry Road\,  Margaret River\,  South West
SUMMARY:Margaret River Show Horse Gymkhana
DESCRIPTION:Unofficial classes including Supreme \,  Official classes inclu
 ding Supreme \,  Stock horses\,  Fancy Dress. Entry form attached\,  includ
 ing Entries on the day. A fun day our with your horse or pony!\nhttps://www
 .cavalletti.com.au/event/margaret-river-show-horse-gymkhana/
URL:https://www.cavalletti.com.au/event/margaret-river-show-horse-gymkhana/
END:VEVENT
END:VCALENDAR