BEGIN:VCALENDAR
VERSION:2.0
PRODID:-//eventon.com NONSGML v1.0//EN
CALSCALE:GREGORIAN
METHOD:PUBLISH
BEGIN:VEVENT
UID:69e58cedeb9b5
DTSTAMP:20260420T021821Z
DTSTART:20240310T010000Z
DTEND:20240310T155000Z
LOCATION:Perth Horse &amp; Pony Club 171 Jon Sanders Drive\,  Herdsman WA 6017 171 Jon Sanders Drive\,  Herdsman\,  WA\,  Australia\,  6017
SUMMARY:Swan View & Districts Agricultural & Arts Society Inc Horses in Action
DESCRIPTION:Swan View Ag HIA\,  RAS\,  EWA and SHCWA qualifier\,  official 
 and encouragement rings.\nhttps://www.cavalletti.com.au/event/swan-view-dis
 tricts-agricultural-arts-society-inc-horses-in-action-2/
URL:https://www.cavalletti.com.au/event/swan-view-districts-agricultural-arts-society-inc-horses-in-action-2/
END:VEVENT
END:VCALENDAR