BEGIN:VCALENDAR
VERSION:2.0
PRODID:-//eventon.com NONSGML v1.0//EN
CALSCALE:GREGORIAN
METHOD:PUBLISH
BEGIN:VEVENT
UID:69e56a668d482
DTSTAMP:20260419T235102Z
DTSTART:20240316T010000Z
DTEND:20240316T080000Z
LOCATION:Rae Park\,  Manjimup \,  South West
SUMMARY:Warren Districts Agricultural Show (Manjimup)
DESCRIPTION:Entries for Breed Section will be available through NOMINATE En
 tries for hacking will be on the day.\nhttps://www.cavalletti.com.au/event/
 warren-districts-agricultural-show-manjimup-2/
URL:https://www.cavalletti.com.au/event/warren-districts-agricultural-show-manjimup-2/
END:VEVENT
END:VCALENDAR