BEGIN:VCALENDAR
VERSION:2.0
PRODID:-//eventon.com NONSGML v1.0//EN
CALSCALE:GREGORIAN
METHOD:PUBLISH
BEGIN:VEVENT
UID:69e56abe61eff
DTSTAMP:20260419T235230Z
DTSTART:20240302T000000Z
DTEND:20240303T080000Z
LOCATION:Claremont Showgrounds (Higham Park Grass Area) float & car entry via gate 8 off Ashton Avenue\,  Perth
SUMMARY:APSB WA Branch Stud Show
DESCRIPTION:The APSB WA Branch proudly presents their 47th Annual Stud Show
 . 3 Eastern States judges with Breed\,  Ridden\,  Harness\,  Dressage and H
 andy Pony classes. Covering all pony breeds re3gistered under the Australia
 n Pony Stud Book Society. All ponies must be registered with e APSB Soc and
  owners must be financial[..]\nhttps://www.cavalletti.com.au/event/apsb-wa-
 branch-stud-show/
URL:https://www.cavalletti.com.au/event/apsb-wa-branch-stud-show/
END:VEVENT
END:VCALENDAR