BEGIN:VCALENDAR
VERSION:2.0
PRODID:-//eventon.com NONSGML v1.0//EN
CALSCALE:GREGORIAN
METHOD:PUBLISH
BEGIN:VEVENT
UID:69e570f840046
DTSTAMP:20260420T001904Z
DTSTART:20240126T230000Z
DTEND:20240127T040000Z
LOCATION:Gidgegannup Show Grounds Toodyay Rd\,  Gidgegannup\,  Perth
SUMMARY:Horsey Swap Meet and Gidgegannup Dressage Club Registration Day
DESCRIPTION:Gidgegannup Dressage Club is no ordinary dressage club You only
  had to be at our November club competition to know that. We had Barbie\,  
 Ken \,  Wonder Woman and a few others turn up for a fabulous freestyle even
 t. Join in the fun in 2024 as we once again &nbsp;combine[..]\nhttps://www.
 cavalletti.com.au/event/horsey-swap-meet-and-gidgegannup-dressage-club-regi
 stration-day-2/
URL:https://www.cavalletti.com.au/event/horsey-swap-meet-and-gidgegannup-dressage-club-registration-day-2/
END:VEVENT
END:VCALENDAR