BEGIN:VCALENDAR
VERSION:2.0
PRODID:-//eventon.com NONSGML v1.0//EN
CALSCALE:GREGORIAN
METHOD:PUBLISH
BEGIN:VEVENT
UID:69e56aaeb639b
DTSTAMP:20260419T235214Z
DTSTART:20240204T020000Z
DTEND:20240204T040000Z
LOCATION:
SUMMARY:Gnangara Adult Equestrian Club Inc Joining day
DESCRIPTION:You are cordially invited to the 2024 Gnangara Adult Equestrian
  Club Inc. joining day on Sunday 4 February 2024. 10.00am to 12.00 noon. Ve
 nue: 2430 Great Northern Highway (on the site of Swan Valley Nursery) Bulls
 brook.\nhttps://www.cavalletti.com.au/event/gnangara-adult-equestrian-club-
 inc-joining-day-2/
URL:https://www.cavalletti.com.au/event/gnangara-adult-equestrian-club-inc-joining-day-2/
END:VEVENT
END:VCALENDAR