BEGIN:VCALENDAR
VERSION:2.0
PRODID:-//eventon.com NONSGML v1.0//EN
CALSCALE:GREGORIAN
METHOD:PUBLISH
BEGIN:VEVENT
UID:69e56ad435f1b
DTSTAMP:20260419T235252Z
DTSTART:20240113T230000Z
DTEND:20240114T040000Z
LOCATION:434 Kargotich Rd\,  Oakford WA 6121\,  Australia
SUMMARY:Oakford Equestrian Jump X
DESCRIPTION:This will be a fun filled training type competition\,  the cour
 se will be a combination of show jumps and cross country jumps over a short
 ened course similar to EITP.\nhttps://www.cavalletti.com.au/event/oakford-e
 questrian-jump-x-3/
URL:https://www.cavalletti.com.au/event/oakford-equestrian-jump-x-3/
END:VEVENT
END:VCALENDAR