BEGIN:VCALENDAR
VERSION:2.0
PRODID:-//eventon.com NONSGML v1.0//EN
CALSCALE:GREGORIAN
METHOD:PUBLISH
BEGIN:VEVENT
UID:69e7a2db74454
DTSTAMP:20260421T161627Z
DTSTART:20240204T000000Z
DTEND:20240204T155000Z
LOCATION:Karinya Equestrian Park 27 Grant Street\,  Orange Grove\,  WA\,  Australia\, 
SUMMARY:Gosnells R&PC Inc Summer Show Offs
DESCRIPTION:2024 Gosnells R&amp;PC Inc Summer Show Offs Breed Show! Februar
 y 4th Pre-Entries close 29th January Entries on the day available Official 
 Measuring from 7am **New Grand Champion Ridden Exhibit Ridden by a Junior R
 ider 17yrs and Under**\nhttps://www.cavalletti.com.au/event/gosnells-rpc-in
 c-summer-show-offs/
URL:https://www.cavalletti.com.au/event/gosnells-rpc-inc-summer-show-offs/
END:VEVENT
END:VCALENDAR