BEGIN:VCALENDAR
VERSION:2.0
PRODID:-//eventon.com NONSGML v1.0//EN
CALSCALE:GREGORIAN
METHOD:PUBLISH
BEGIN:VEVENT
UID:69eba3204fe96
DTSTAMP:20260424T170640Z
DTSTART:20250418
DTEND:20250419
LOCATION:Yalambi Horse Farm 771 Yelverton Road Wilyabrup\,  WA 6208
SUMMARY:Yalambi Farm Easter Jumping Festival
DESCRIPTION:This event has been added by Cavalletti. Please contact the eve
 nt organiser for more information and to ensure this event is still proceed
 ing. If you are the event organiser of this event\,  please contact us to c
 laim this listing.\nhttps://www.cavalletti.com.au/event/yalambi-farm-easter
 -jumping-festival/
URL:https://www.cavalletti.com.au/event/yalambi-farm-easter-jumping-festival/
END:VEVENT
END:VCALENDAR