BEGIN:VCALENDAR
VERSION:2.0
PRODID:-//eventon.com NONSGML v1.0//EN
CALSCALE:GREGORIAN
METHOD:PUBLISH
BEGIN:VEVENT
UID:69ea466b3844d
DTSTAMP:20260423T161851Z
DTSTART:20250824T080000Z
DTEND:20250824T160000Z
LOCATION:Baldivis Equestrian &amp; Pony Club Lugg Road\,  Baldivis\,  Peel
SUMMARY:BALDIVIS PONY CLUB HICKSTEAD
DESCRIPTION:A relaxed event with a combination of SJ on our grass arena and
  XC jumps through the bush tracks.&nbsp; Great prizes!\nhttps://www.cavalle
 tti.com.au/event/baldivis-pony-club-hickstead/
URL:https://www.cavalletti.com.au/event/baldivis-pony-club-hickstead/
END:VEVENT
END:VCALENDAR