BEGIN:VCALENDAR
VERSION:2.0
PRODID:-//eventon.com NONSGML v1.0//EN
CALSCALE:GREGORIAN
METHOD:PUBLISH
BEGIN:VEVENT
UID:69e6eb20a4a48
DTSTAMP:20260421T031232Z
DTSTART:20260510
DTEND:20260511
LOCATION:Perth Horse &amp; Pony Club 171 Jon Sanders Drive\,  Herdsman WA 6017 171 Jon Sanders Drive\,  Herdsman\,  WA\,  Australia\,  6017
SUMMARY:Dilutes Australia WA Branch Bibs N Booties 2026
DESCRIPTION:Bibs N Booties 2026 &#8211; All Breeds for horses and Ponies 3 
 years and under\nhttps://www.cavalletti.com.au/event/dilutes-australia-wa-b
 ranch-bibs-n-booties-2026/
URL:https://www.cavalletti.com.au/event/dilutes-australia-wa-branch-bibs-n-booties-2026/
END:VEVENT
END:VCALENDAR